BEGIN:VCALENDAR
VERSION:2.0
PRODID:-//Ingurumen Aretoa Getxo - ECPv4.6.8//NONSGML v1.0//EN
CALSCALE:GREGORIAN
METHOD:PUBLISH
X-WR-CALNAME:Ingurumen Aretoa Getxo
X-ORIGINAL-URL:https://www.ingurumenaretoagetxo.eus
X-WR-CALDESC:Events for Ingurumen Aretoa Getxo
BEGIN:VEVENT
DTSTART;TZID=UTC+0:20260321T103000
DTEND;TZID=UTC+0:20260321T133000
DTSTAMP:20260421T193241
CREATED:20260221T090009Z
LAST-MODIFIED:20260224T090621Z
UID:25409-1774089000-1774099800@www.ingurumenaretoagetxo.eus
SUMMARY:ACTIVIDADES EN LA NATURALEZA: LOS COLORES DE LAS MARIPOSAS (DÍA INTERNACIONAL DE LOS BOSQUES)
DESCRIPTION:En esta actividad\, dirigida a niños y niñas de más de 3 años\, reutilizaremos cartón para crear la silueta de una mariposa\, que recortarán y transformarán con mucha creatividad. \nDespués recorrerán el arboretum del Aula Ambiental (un jardín botánico con distintas especies de árboles) en busca de elementos naturales de distintos colores (flores\, cortezas de los árboles\, etc.)\, que les servirán para dar vida y color a su mariposa\, combinando juego\, naturaleza y reciclaje en una experiencia sensorial y divertida. \nSe realizarán 2 turnos: de 10:30 a 11:45 y de 12:15 a 13:40. Es necesaria la inscripción previa y recibir confirmación por parte del Aula Ambiental. \n
URL:https://www.ingurumenaretoagetxo.eus/actividad/actividades-en-la-naturaleza-los-colores-de-las-mariposas-dia-internacional-de-los-bosques/
LOCATION:Barrio Larrañazubi\, 12. B\, Getxo\, Bizkaia\, 48992\, España
CATEGORIES:Día Mundial,Manualidades,Público familiar,Público infantil,Taller
ATTACH;FMTTYPE=image/jpeg:https://www.ingurumenaretoagetxo.eus/wp-content/uploads/2026/02/eplv-butterfly-7264202_1280.jpg
ORGANIZER;CN="Aula%20de%20Getxo":MAILTO:info@ingurumenaretoagetxo.eus
END:VEVENT
END:VCALENDAR