BEGIN:VCALENDAR
VERSION:2.0
PRODID:-//Ingurumen Aretoa Getxo - ECPv4.6.8//NONSGML v1.0//EN
CALSCALE:GREGORIAN
METHOD:PUBLISH
X-WR-CALNAME:Ingurumen Aretoa Getxo
X-ORIGINAL-URL:https://www.ingurumenaretoagetxo.eus
X-WR-CALDESC:Events for Ingurumen Aretoa Getxo
BEGIN:VEVENT
DTSTART;TZID=UTC+0:20220108T100000
DTEND;TZID=UTC+0:20220108T140000
DTSTAMP:20260419T134741
CREATED:20211227T110021Z
LAST-MODIFIED:20211223T150824Z
UID:16939-1641636000-1641650400@www.ingurumenaretoagetxo.eus
SUMMARY:BÚSQUEDA DEL TESORO
DESCRIPTION:La Búsqueda del Tesoro es una actividad dirigida a familias\, grupos de amigos y público en general. Cada\ngrupo participante recibirá un mapa con unas coordenadas\, que corresponden a puntos emblemáticos\ndel humedal de Bolue. Introduciendo las coordenadas en Google Maps (es necesario por tanto un\ndispositivo móvil con conexión a internet) el GPS nos conducirá hasta cada uno de los “tesoros” del\nhumedal. Una vez allí deberemos anotar lo que tenemos en el entorno\, o bien sacar una fotografía para\nrecordar a qué elemento corresponde cada coordenada\, ya que al final de la actividad (cuando se hayan\nencontrado todas las coordenadas) se os pedirá mediante un sencillo juego que relacionéis cada\ncoordenada con el elemento al que corresponde. Así comprobaremos que habéis llegado correctamente\na cada una de las coordenadas. La actividad dura una hora aproximada\, (puede desarrollarse entre las\n10:00 y las 14:00). Es necesaria la inscripción previa y recibir confirmación por parte del Aula Ambiental. \n  \nEdad mínima recomendada: 8 años \n
URL:https://www.ingurumenaretoagetxo.eus/actividad/busqueda-del-tesoro-12/
CATEGORIES:Actividad autoguiada,Público familiar
ATTACH;FMTTYPE=image/jpeg:https://www.ingurumenaretoagetxo.eus/wp-content/uploads/2020/06/treasure-map-1850653_1920-2.jpg
ORGANIZER;CN="Aula%20de%20Getxo":MAILTO:info@ingurumenaretoagetxo.eus
END:VEVENT
END:VCALENDAR