BEGIN:VCALENDAR
VERSION:2.0
PRODID:-//Ingurumen Aretoa Getxo - ECPv4.6.8//NONSGML v1.0//EN
CALSCALE:GREGORIAN
METHOD:PUBLISH
X-WR-CALNAME:Ingurumen Aretoa Getxo
X-ORIGINAL-URL:https://www.ingurumenaretoagetxo.eus
X-WR-CALDESC:Events for Ingurumen Aretoa Getxo
BEGIN:VEVENT
DTSTART;TZID=UTC+0:20251221T103000
DTEND;TZID=UTC+0:20251221T133000
DTSTAMP:20260421T193131
CREATED:20251125T133014Z
LAST-MODIFIED:20251125T133014Z
UID:24733-1766313000-1766323800@www.ingurumenaretoagetxo.eus
SUMMARY:CARTA DE OLENTZERO\, REPARTO DE CARBÓN DULCE Y MANUALIDAD DE CALCETÍN PARA REGALOS
DESCRIPTION:¡Ya viene Olentzero! Por ello los y las txikis participantes recibirán un saquito con carbón dulce y una carta del propio Olentzero dirigida a cada uno y cada una de ellas. Además podrán hacer una manualidad sostenible: un calcetín para los regalos\, reutilizando cartón y utilizando fieltro. Edad mínima 3 años. \nSe realizarán dos turnos: de 10:30 a 11:45 y de 12:15 a 13:30. Es necesaria la inscripción previa y recibir confirmación por parte del Aula Ambiental. \n
URL:https://www.ingurumenaretoagetxo.eus/actividad/carta-de-olentzero-reparto-de-carbon-dulce-y-manualidad-de-calcetin-para-regalos-2/
LOCATION:Barrio Larrañazubi\, 12. B\, Getxo\, Bizkaia\, 48992\, España
ATTACH;FMTTYPE=image/jpeg:https://www.ingurumenaretoagetxo.eus/wp-content/uploads/2024/11/Diseno-sin-titulo-4.jpg
ORGANIZER;CN="Aula%20de%20Getxo":MAILTO:info@ingurumenaretoagetxo.eus
END:VEVENT
END:VCALENDAR