BEGIN:VCALENDAR
VERSION:2.0
PRODID:-//Ingurumen Aretoa Getxo - ECPv4.6.8//NONSGML v1.0//EN
CALSCALE:GREGORIAN
METHOD:PUBLISH
X-WR-CALNAME:Ingurumen Aretoa Getxo
X-ORIGINAL-URL:https://www.ingurumenaretoagetxo.eus
X-WR-CALDESC:Events for Ingurumen Aretoa Getxo
BEGIN:VEVENT
DTSTART;TZID=UTC+0:20260125T103000
DTEND;TZID=UTC+0:20260125T133000
DTSTAMP:20260421T193241
CREATED:20251226T080037Z
LAST-MODIFIED:20251222T122605Z
UID:25031-1769337000-1769347800@www.ingurumenaretoagetxo.eus
SUMMARY:DÍA MUNDIAL DE LA EDUCACIÓN AMBIENTAL: COLECCIÓN DE JUEGOS PARA RECONECTAR CON LA NATURALEZA
DESCRIPTION:Sentirse conectado con la Naturaleza es fundamental para la salud física y mental\, ya que reduce el estrés\, mejora el estado de ánimo\, fortalece el sistema inmunológico y fomenta el bienestar general. Y si además se hace pasando un buen rato ¡el beneficio se multiplica! \nEn esta actividad los grupos participantes\, guiados por el educador del Aula\, podrán desarrollar distintos juegos por el entorno del Aula Ambiental\, con el objetivo de conocer mejor nuestro patrimonio natural y reconectar con la Naturaleza. \nSe realizarán dos turnos: de 10:30 a 11:45 y de 12:15 a 13:30. Es necesaria la inscripción previa y recibir confirmación por parte del Aula Ambiental. Edad mínima: 6 años. \n
URL:https://www.ingurumenaretoagetxo.eus/actividad/dia-mundial-de-la-educacion-ambiental-coleccion-de-juegos-para-reconectar-con-la-naturaleza/
LOCATION:Barrio Larrañazubi\, 12. B\, Getxo\, Bizkaia\, 48992\, España
ATTACH;FMTTYPE=image/jpeg:https://www.ingurumenaretoagetxo.eus/wp-content/uploads/2025/12/hand-5426060_1280-1.jpg
ORGANIZER;CN="Aula%20de%20Getxo":MAILTO:info@ingurumenaretoagetxo.eus
END:VEVENT
END:VCALENDAR