BEGIN:VCALENDAR
VERSION:2.0
PRODID:-//Ingurumen Aretoa Getxo - ECPv4.6.8//NONSGML v1.0//EN
CALSCALE:GREGORIAN
METHOD:PUBLISH
X-WR-CALNAME:Ingurumen Aretoa Getxo
X-ORIGINAL-URL:https://www.ingurumenaretoagetxo.eus
X-WR-CALDESC:Events for Ingurumen Aretoa Getxo
BEGIN:VEVENT
DTSTART;TZID=UTC+0:20260307T103000
DTEND;TZID=UTC+0:20260307T133000
DTSTAMP:20260421T170337
CREATED:20260221T090011Z
LAST-MODIFIED:20260223T131149Z
UID:25356-1772879400-1772890200@www.ingurumenaretoagetxo.eus
SUMMARY:MANUALIDADES SOSTENIBLES: COLLARES ECOLÓGICOS
DESCRIPTION:En este taller de manualidades sostenibles los y las txikis de más de 3 años crearán collares ecológicos reutilizando cartón\, dándole una segunda vida a materiales que normalmente tiraríamos. A través del juego y la creatividad aprenderemos que con imaginación se pueden hacer cosas bonitas cuidando el planeta\, fomentando valores como el reciclaje\, el consumo responsable y el respeto por el medio ambiente. \nDos turnos: de 10:30 a 11:45 y de 12:15 a 13:30. Es necesaria la inscripción previa y recibir confirmación por parte del Aula Ambiental. \n
URL:https://www.ingurumenaretoagetxo.eus/actividad/manualidades-sostenibles-collares-ecologicos/
LOCATION:Barrio Larrañazubi\, 12. B\, Getxo\, Bizkaia\, 48992\, España
CATEGORIES:Manualidades,Público familiar,Público infantil,Taller
ATTACH;FMTTYPE=image/jpeg:https://www.ingurumenaretoagetxo.eus/wp-content/uploads/2026/02/poison_ivy-kid-1673773_1280.jpg
ORGANIZER;CN="Aula%20de%20Getxo":MAILTO:info@ingurumenaretoagetxo.eus
END:VEVENT
END:VCALENDAR