BEGIN:VCALENDAR
VERSION:2.0
PRODID:-//Ingurumen Aretoa Getxo - ECPv4.6.8//NONSGML v1.0//EN
CALSCALE:GREGORIAN
METHOD:PUBLISH
X-WR-CALNAME:Ingurumen Aretoa Getxo
X-ORIGINAL-URL:https://www.ingurumenaretoagetxo.eus
X-WR-CALDESC:Events for Ingurumen Aretoa Getxo
BEGIN:VEVENT
DTSTART;TZID=UTC+0:20260214T103000
DTEND;TZID=UTC+0:20260214T133000
DTSTAMP:20260421T192923
CREATED:20260126T080004Z
LAST-MODIFIED:20260114T100122Z
UID:25170-1771065000-1771075800@www.ingurumenaretoagetxo.eus
SUMMARY:MANUALIDADES SOSTENIBLES: MÁSCARAS DE CARNAVAL
DESCRIPTION:En este taller infantil de carácter creativo dirigido a  txikis de más de 3 años elaboraremos máscaras de carnaval mediante la reutilización de hueveras de cartón. La actividad tiene como objetivo fomentar la expresión artística\, la creatividad y la conciencia medioambiental a través de la reutilización de materiales. \nDos turnos: de 10:30 a 11:45 y de 12:15 a 13:30. Es necesaria la inscripción previa y recibir confirmación por parte del Aula Ambiental. \n
URL:https://www.ingurumenaretoagetxo.eus/actividad/manualidades-sostenibles-mascaras-de-carnaval-3/
LOCATION:Barrio Larrañazubi\, 12. B\, Getxo\, Bizkaia\, 48992\, España
CATEGORIES:Manualidades,Público familiar,Público infantil,Taller
ATTACH;FMTTYPE=image/png:https://www.ingurumenaretoagetxo.eus/wp-content/uploads/2026/01/mask-7007625_1280.png
ORGANIZER;CN="Aula%20de%20Getxo":MAILTO:info@ingurumenaretoagetxo.eus
END:VEVENT
END:VCALENDAR