BEGIN:VCALENDAR
VERSION:2.0
PRODID:-//Ingurumen Aretoa Getxo - ECPv4.6.8//NONSGML v1.0//EN
CALSCALE:GREGORIAN
METHOD:PUBLISH
X-WR-CALNAME:Ingurumen Aretoa Getxo
X-ORIGINAL-URL:https://www.ingurumenaretoagetxo.eus
X-WR-CALDESC:Events for Ingurumen Aretoa Getxo
BEGIN:VEVENT
DTSTART;TZID=UTC+0:20260105T103000
DTEND;TZID=UTC+0:20260105T133000
DTSTAMP:20260421T193132
CREATED:20251226T080007Z
LAST-MODIFIED:20251222T115138Z
UID:24228-1767609000-1767619800@www.ingurumenaretoagetxo.eus
SUMMARY:SOBREVIVIR EN LA NATURALEZA
DESCRIPTION:En el caso de que un día te perdieses por el bosque\, ¿serías capaz de sobrevivir únicamente usando tu guía de supervivencia y lo que puedas encontrar en la naturaleza? \n“Sobrevivir en la naturaleza” es una nueva actividad en la que los grupos participantes deberán superar 4 pruebas en menos de una hora: aprender a orientarse sin brújula\, construir refugio\, buscar alimento\, aprender a curar sus heridas con elementos naturales y aprender a hacer fuego con pedernal. Todo ello utilizando los materiales y guías que hemos creado en el Aula. \nSe harán 6 turnos: 10:30 (2 turnos)\, 11:15\, 12:00 (2 turnos) y 12:30. \nEs necesaria la inscripción previa y recibir confirmación por parte del Aula Ambiental. \n
URL:https://www.ingurumenaretoagetxo.eus/actividad/nueva-actividad-sobrevivir-en-la-naturaleza-9-7/
LOCATION:Barrio Larrañazubi\, 12. B\, Getxo\, Bizkaia\, 48992\, España
CATEGORIES:Público general
ATTACH;FMTTYPE=image/jpeg:https://www.ingurumenaretoagetxo.eus/wp-content/uploads/2025/06/Sobrevivir-en-la-naturaleza-3-1.jpg
END:VEVENT
END:VCALENDAR