BEGIN:VCALENDAR
VERSION:2.0
PRODID:-//Ingurumen Aretoa Getxo - ECPv4.6.8//NONSGML v1.0//EN
CALSCALE:GREGORIAN
METHOD:PUBLISH
X-WR-CALNAME:Ingurumen Aretoa Getxo
X-ORIGINAL-URL:https://www.ingurumenaretoagetxo.eus
X-WR-CALDESC:Events for Ingurumen Aretoa Getxo
BEGIN:VEVENT
DTSTART;TZID=UTC+0:20230416T103000
DTEND;TZID=UTC+0:20230416T133000
DTSTAMP:20260422T084957
CREATED:20230324T090054Z
LAST-MODIFIED:20230324T090918Z
UID:20480-1681641000-1681651800@www.ingurumenaretoagetxo.eus
SUMMARY:TALLER BIO-DIVER: GAVIOTAS
DESCRIPTION:Se trata de un taller dirigido a niños y niñas a partir de los 3 años. En esta ocasión se van a elaborar unas bonitas gaviotas reutilizando pequeños envases de plástico blanco. Durante el taller se hablará de algunas de las características de estos animales. \nSe realizarán dos turnos: de 10:30 a 11:45 y de 12:15 a 13:30. Es necesaria la inscripción previa y recibir confirmación por parte del Aula Ambiental. \n
URL:https://www.ingurumenaretoagetxo.eus/actividad/taller-bio-diver-gaviotas/
LOCATION:Barrio Larrañazubi\, 12. B\, Getxo\, Bizkaia\, 48992\, España
CATEGORIES:Manualidades,Público familiar,Público infantil,Taller
ATTACH;FMTTYPE=image/jpeg:https://www.ingurumenaretoagetxo.eus/wp-content/uploads/2023/03/seagull-g10575c87b_1280.jpg
ORGANIZER;CN="Aula%20de%20Getxo":MAILTO:info@ingurumenaretoagetxo.eus
END:VEVENT
END:VCALENDAR