BEGIN:VCALENDAR
VERSION:2.0
PRODID:-//Ingurumen Aretoa Getxo - ECPv4.6.8//NONSGML v1.0//EN
CALSCALE:GREGORIAN
METHOD:PUBLISH
X-WR-CALNAME:Ingurumen Aretoa Getxo
X-ORIGINAL-URL:https://www.ingurumenaretoagetxo.eus
X-WR-CALDESC:Events for Ingurumen Aretoa Getxo
BEGIN:VEVENT
DTSTART;TZID=UTC+0:20260228T103000
DTEND;TZID=UTC+0:20260228T133000
DTSTAMP:20260421T193040
CREATED:20260126T080040Z
LAST-MODIFIED:20260114T103731Z
UID:25229-1772274600-1772285400@www.ingurumenaretoagetxo.eus
SUMMARY:TALLER COLABORATIVO DE AGENDA 2030 ESCOLAR: CHARCA PARA ANFIBIOS
DESCRIPTION:¿Quieres ayudar al alumnado de Getxo que participa en el programa de Agenda 2030 Escolar a construir una charca para anfibios? Te invitamos a participar en un taller abierto a todos los públicos en el que aprenderemos\, de forma práctica y divertida\, a construir una charca para estos animales. Durante la actividad descubriremos la importancia de estos pequeños ecosistemas para ranas\, sapos y tritones\, y colaboraremos en la creación de un refugio natural que fomente la biodiversidad local. \nSe realizarán dos turnos: de 10:30 a 11:45 y de 12:15 a 13:30. Es necesaria la inscripción previa y recibir confirmación por parte del Aula Ambiental. \n
URL:https://www.ingurumenaretoagetxo.eus/actividad/taller-colaborativo-de-agenda-2030-escolar-charca-para-anfibios/
LOCATION:Barrio Larrañazubi\, 12. B\, Getxo\, Bizkaia\, 48992\, España
CATEGORIES:Público general
ATTACH;FMTTYPE=image/jpeg:https://www.ingurumenaretoagetxo.eus/wp-content/uploads/2026/01/waters-3251313_1280.jpg
ORGANIZER;CN="Aula%20de%20Getxo":MAILTO:info@ingurumenaretoagetxo.eus
END:VEVENT
END:VCALENDAR