BEGIN:VCALENDAR
VERSION:2.0
PRODID:-//Ingurumen Aretoa Getxo - ECPv4.6.8//NONSGML v1.0//EN
CALSCALE:GREGORIAN
METHOD:PUBLISH
X-WR-CALNAME:Ingurumen Aretoa Getxo
X-ORIGINAL-URL:https://www.ingurumenaretoagetxo.eus
X-WR-CALDESC:Events for Ingurumen Aretoa Getxo
BEGIN:VEVENT
DTSTART;TZID=UTC+0:20220226T103000
DTEND;TZID=UTC+0:20220226T133000
DTSTAMP:20260422T090259
CREATED:20220127T110037Z
LAST-MODIFIED:20220125T151626Z
UID:18844-1645871400-1645882200@www.ingurumenaretoagetxo.eus
SUMMARY:TALLER DE ADULTOS: TXARAMELA PASTA
DESCRIPTION:Se trata de un taller práctico en el que Txaramela Pasta nos enseñará a elaborar nuestra propia pasta ecológica\, utilizando productos locales. \nEl taller se desarrollará entre las 10:30 y la 13:30. Es necesaria la inscripción previa y recibir confirmación por parte del Aula. \n
URL:https://www.ingurumenaretoagetxo.eus/actividad/taller-de-adultos-txaramela-pasta/
LOCATION:Barrio Larrañazubi\, 12. B\, Getxo\, Bizkaia\, 48992\, España
CATEGORIES:Público adulto,Taller
ATTACH;FMTTYPE=image/jpeg:https://www.ingurumenaretoagetxo.eus/wp-content/uploads/2022/01/pasta-geadc1c3db_1920.jpg
ORGANIZER;CN="Aula%20de%20Getxo":MAILTO:info@ingurumenaretoagetxo.eus
END:VEVENT
END:VCALENDAR