BEGIN:VCALENDAR
VERSION:2.0
PRODID:-//Ingurumen Aretoa Getxo - ECPv4.6.8//NONSGML v1.0//EN
CALSCALE:GREGORIAN
METHOD:PUBLISH
X-WR-CALNAME:Ingurumen Aretoa Getxo
X-ORIGINAL-URL:https://www.ingurumenaretoagetxo.eus
X-WR-CALDESC:Events for Ingurumen Aretoa Getxo
BEGIN:VEVENT
DTSTART;TZID=UTC+0:20251214T103000
DTEND;TZID=UTC+0:20251214T133000
DTSTAMP:20260421T193240
CREATED:20251125T130901Z
LAST-MODIFIED:20251125T131606Z
UID:24670-1765708200-1765719000@www.ingurumenaretoagetxo.eus
SUMMARY:TALLER DE ALIMENTACIÓN SOSTENIBLE PARA PERSONAS ADULTAS: APRENDE A ELABORAR PAN DE NAVIDAD CON OKINE OGIA
DESCRIPTION:De la mano de Okine Ogia se llevará a cabo este curso-taller dirigido a personas de más de 16 años\, entre las 10:30 y la 13:30 en el Aula Ambiental. Durante el mismo\, que constará de una pequeña parte teórica y una parte práctica\, se elaborará con masa madre\, de manera artesanal y basándose en principios de alimentación sostenible\, un pan de navidad con anís\, naranja escarchada\, canela y pasas. Al finalizar el mismo se podrá realizar una pequeña degustación del producto elaborado. \nEs necesario inscribirse previamente y recibir la confirmación del Aula Ambiental. \n
URL:https://www.ingurumenaretoagetxo.eus/actividad/taller-de-alimentacion-sostenible-para-personas-adultas-aprende-a-elaborar-pan-de-navidad-con-okine-ogia/
LOCATION:Barrio Larrañazubi\, 12. B\, Getxo\, Bizkaia\, 48992\, España
ATTACH;FMTTYPE=image/jpeg:https://www.ingurumenaretoagetxo.eus/wp-content/uploads/2025/11/panettone-8462295_1280.jpg
ORGANIZER;CN="Aula%20de%20Getxo":MAILTO:info@ingurumenaretoagetxo.eus
END:VEVENT
END:VCALENDAR