BEGIN:VCALENDAR
VERSION:2.0
PRODID:-//Ingurumen Aretoa Getxo - ECPv4.6.8//NONSGML v1.0//EN
CALSCALE:GREGORIAN
METHOD:PUBLISH
X-WR-CALNAME:Ingurumen Aretoa Getxo
X-ORIGINAL-URL:https://www.ingurumenaretoagetxo.eus
X-WR-CALDESC:Events for Ingurumen Aretoa Getxo
BEGIN:VEVENT
DTSTART;TZID=UTC+0:20260115T103000
DTEND;TZID=UTC+0:20260115T133000
DTSTAMP:20260421T193144
CREATED:20260126T080039Z
LAST-MODIFIED:20260114T101650Z
UID:25180-1768473000-1768483800@www.ingurumenaretoagetxo.eus
SUMMARY:TALLER PARA PERSONAS ADULTAS: JARABES MEDICINALES CON PLANTAS SILVESTRES (CON DANIEL COLORADO DE EL SENDERO DE LA SALUD)
DESCRIPTION:En este taller dirigido a personas adultas\, e impartido por Daniel Colorado\, conoceremos el proceso de elaboración de un jarabe respiratorio elaborado con plantas silvestres\, siguiendo una receta de los boticarios y boticarias de la Edad Media. \nLos contenidos del taller son: \n\nTipos de jarabes en la Edad Media\nLa miel como potenciador de los principios activos\nPlantas silvestres respiratorias\nProceso de elaboración\n\nA lo largo de la actividad conocerás sus propiedades\, usos tradicionales y recomendaciones de preparación segura\, promoviendo el autocuidado y el bienestar de manera consciente y responsable. \nHorario: 10:30 – 13:30. Es necesaria la inscripción previa y recibir confirmación por parte del Aula Ambiental. \n
URL:https://www.ingurumenaretoagetxo.eus/actividad/taller-para-personas-adultas-jarabes-medicinales-con-plantas-silvestres-con-daniel-colorado-de-el-sendero-de-la-salud/
LOCATION:Barrio Larrañazubi\, 12. B\, Getxo\, Bizkaia\, 48992\, España
CATEGORIES:Público adulto,Taller
ATTACH;FMTTYPE=image/jpeg:https://www.ingurumenaretoagetxo.eus/wp-content/uploads/2026/01/honey-8554044_1280.jpg
ORGANIZER;CN="Aula%20de%20Getxo":MAILTO:info@ingurumenaretoagetxo.eus
END:VEVENT
END:VCALENDAR