BEGIN:VCALENDAR
VERSION:2.0
PRODID:-//Ingurumen Aretoa Getxo - ECPv4.6.8//NONSGML v1.0//EN
CALSCALE:GREGORIAN
METHOD:PUBLISH
X-WR-CALNAME:Ingurumen Aretoa Getxo
X-ORIGINAL-URL:https://www.ingurumenaretoagetxo.eus
X-WR-CALDESC:Events for Ingurumen Aretoa Getxo
BEGIN:VEVENT
DTSTART;TZID=UTC+0:20230129T103000
DTEND;TZID=UTC+0:20230129T133000
DTSTAMP:20260421T171239
CREATED:20221227T090001Z
LAST-MODIFIED:20221227T090001Z
UID:20227-1674988200-1674999000@www.ingurumenaretoagetxo.eus
SUMMARY:TALLERES BIO-DIVER: RANAS COME-MOSCAS DE CARTÓN
DESCRIPTION:Se trata de un taller para niños y niñas a partir de 3 años\, en el que podrán elaborar unas bonitas ranas que pueden convertirse además en juguetes tipo atrapa-bolas\, reutilizando para ello tubos de cartón. Durante el taller se hablará de las características de estos animales. \nSe realizarán dos turnos de 10:30 a 11:45 y de 12:15 a 13:30. Es necesaria la inscripción previa y recibir confirmación por parte del Aula Ambiental. \n
URL:https://www.ingurumenaretoagetxo.eus/actividad/talleres-bio-diver-ranas-come-moscas-de-carton-2/
LOCATION:Barrio Larrañazubi\, 12. B\, Getxo\, Bizkaia\, 48992\, España
CATEGORIES:Manualidades,Público familiar,Público infantil,Taller
ATTACH;FMTTYPE=image/jpeg:https://www.ingurumenaretoagetxo.eus/wp-content/uploads/2022/12/alone-2084663_1920-2.jpg
ORGANIZER;CN="Aula%20de%20Getxo":MAILTO:info@ingurumenaretoagetxo.eus
END:VEVENT
END:VCALENDAR