BEGIN:VCALENDAR
VERSION:2.0
PRODID:-//Ingurumen Aretoa Getxo - ECPv4.6.8//NONSGML v1.0//EN
CALSCALE:GREGORIAN
METHOD:PUBLISH
X-WR-CALNAME:Ingurumen Aretoa Getxo
X-ORIGINAL-URL:https://www.ingurumenaretoagetxo.eus
X-WR-CALDESC:Events for Ingurumen Aretoa Getxo
BEGIN:VEVENT
DTSTART;TZID=UTC+0:20251216T090000
DTEND;TZID=UTC+0:20260317T173000
DTSTAMP:20260421T191747
CREATED:20251125T132144Z
LAST-MODIFIED:20260130T112614Z
UID:24685-1765875600-1773768600@www.ingurumenaretoagetxo.eus
SUMMARY:EXPOSICIÓN TEMPORAL FOTOGRÁFICA: FAUNA SUBMARINA DEL CANTÁBRICO
DESCRIPTION:Desde el 16 de diciembre hasta el 17 de marzo estará expuesta en la sala principal del Aula Ambiental esta exposición fotográfica sobre fauna submarina de nuestra costa. Se trata de una colección de 12 fotografías cedidas por los submarinistas semi-profesionales Asier Martínez y Alejandro Ángeles\, con una larga trayectoria tanto en el mundo del buceo como en el de la fotografía submarina. \nEl horario de visita de la exposición será el horario de apertura del Aula: de 10:00 a 14:00 y de 15:30 a 17:30 entre semana\, de 10:00 a 14:00 los fines de semana y festivos. \n
URL:https://www.ingurumenaretoagetxo.eus/actividad/inauguracion-nueva-exposicion-temporal-fotografica-fauna-submarina-del-cantabrico/
LOCATION:Barrio Larrañazubi\, 12. B\, Getxo\, Bizkaia\, 48992\, España
CATEGORIES:Exposición temporal actual
ATTACH;FMTTYPE=image/jpeg:https://www.ingurumenaretoagetxo.eus/wp-content/uploads/2025/11/P7130119-scaled.jpeg
ORGANIZER;CN="Aula%20de%20Getxo":MAILTO:info@ingurumenaretoagetxo.eus
END:VEVENT
BEGIN:VEVENT
DTSTART;TZID=UTC+0:20260222T103000
DTEND;TZID=UTC+0:20260222T133000
DTSTAMP:20260421T191747
CREATED:20260126T080043Z
LAST-MODIFIED:20260114T103158Z
UID:23120-1771756200-1771767000@www.ingurumenaretoagetxo.eus
SUMMARY:YINCANA 2.0.
DESCRIPTION:En esta nueva Yincana las familias y grupos (a partir de los 8 años) que participen tendrán la oportunidad de conocer el humedal de Bolue mediante juegos y actividades al aire libre. Las personas participantes tendrán que detenerse en las paradas propuestas y en cada una de ellas llevar a cabo una prueba. \nLa actividad dura unas 2 horas. Se realizarán 4 turnos: 10:15\, 10:30\, 10:45 y 11:00.Es necesaria la inscripción previa y recibir confirmación por parte del Aula Ambiental. \n
URL:https://www.ingurumenaretoagetxo.eus/actividad/yincana-2-0-4-17-4/
LOCATION:Barrio Larrañazubi\, 12. B\, Getxo\, Bizkaia\, 48992\, España
CATEGORIES:Público familiar,Público general,Público infantil
ATTACH;FMTTYPE=image/jpeg:https://www.ingurumenaretoagetxo.eus/wp-content/uploads/2020/08/teens-1006343_1280.jpg
ORGANIZER;CN="Aula%20de%20Getxo":MAILTO:info@ingurumenaretoagetxo.eus
END:VEVENT
END:VCALENDAR