BEGIN:VCALENDAR
VERSION:2.0
PRODID:-//Ingurumen Aretoa Getxo - ECPv4.6.8//NONSGML v1.0//EN
CALSCALE:GREGORIAN
METHOD:PUBLISH
X-WR-CALNAME:Ingurumen Aretoa Getxo
X-ORIGINAL-URL:https://www.ingurumenaretoagetxo.eus
X-WR-CALDESC:Events for Ingurumen Aretoa Getxo
BEGIN:VEVENT
DTSTART;TZID=UTC+0:20260301T090000
DTEND;TZID=UTC+0:20260331T173000
DTSTAMP:20260421T173742
CREATED:20260221T090013Z
LAST-MODIFIED:20260223T130035Z
UID:25331-1772355600-1774978200@www.ingurumenaretoagetxo.eus
SUMMARY:CONCURSO “LOS COLORES DE LA PRIMAVERA”
DESCRIPTION:¡Ya llega la primavera! Por ello organizamos este concurso con 3 categorías\, cuya temática es la primavera en Getxo (pueden representarse flores\, animales típicos de esta época\, paisajes\, tradiciones o fiestas primaverales…). \nCategorías: \n\nDe 4 a 9 años (dibujo)\nEntre 10 y 15 años (dibujo)\nMayores de 16 años (fotografía)\n\nDurante todo el mes podrán recibirse los trabajos cuyo tema central será la primavera en Getxo\, eligiendo durante la primera semana de abril a las personas ganadoras de cada categoría. Los premios son: \n\nRegalo categoría 1: caja de 48 lápices de colores.\nRegalo categoría 2: caja de 48 lápices de colores.\nRegalo categoría 3: cesta ecológica valorada en 20€.\n\nSe pueden consultar las bases del concurso AQUÍ. \n
URL:https://www.ingurumenaretoagetxo.eus/actividad/concurso-los-colores-de-la-primavera/
CATEGORIES:Concurso,Concurso de dibujo,Concurso fotográfico,Público adulto,Público general,Público infantil,Todos los públicos
ATTACH;FMTTYPE=image/jpeg:https://www.ingurumenaretoagetxo.eus/wp-content/uploads/2026/02/noname_13-slr-camera-3752493_1280.jpg
ORGANIZER;CN="Aula%20de%20Getxo":MAILTO:info@ingurumenaretoagetxo.eus
END:VEVENT
BEGIN:VEVENT
DTSTART;TZID=UTC+0:20260322T103000
DTEND;TZID=UTC+0:20260322T133000
DTSTAMP:20260421T173742
CREATED:20260220T090007Z
LAST-MODIFIED:20260224T122839Z
UID:23292-1774175400-1774186200@www.ingurumenaretoagetxo.eus
SUMMARY:DÍA MUNDIAL DEL AGUA: EXPERIMENTOS CON AGUA
DESCRIPTION:Para celebrar el Día Mundial del Agua y reflexionar sobre su importancia\, se propone esta actividad dirigida a niños y niñas mayores de 5 años. Durante la actividad se desarrollarán 3 experimentos diferentes: “el agua se mueve”\,  “la depuradora” y “la suciedad que no se ve”. A través de estos experimentos se trabajará la importancia del agua\, la necesidad de su conservación y ahorro y otros aspectos relacionados con algunas de sus características físicas y químicas. \nSe realizarán 2 turnos: de 10:30 a 11:45 y de 12:15 a 13:40. Es necesaria la inscripción previa y recibir confirmación por parte del Aula Ambiental. \n
URL:https://www.ingurumenaretoagetxo.eus/actividad/dia-mundial-del-agua-experimentos-con-agua-2/
LOCATION:Barrio Larrañazubi\, 12. B\, Getxo\, Bizkaia\, 48992\, España
CATEGORIES:Día Mundial,Público familiar,Público infantil
ATTACH;FMTTYPE=image/jpeg:https://www.ingurumenaretoagetxo.eus/wp-content/uploads/2025/02/IMG-20201002-WA0013.jpg
ORGANIZER;CN="Aula%20de%20Getxo":MAILTO:info@ingurumenaretoagetxo.eus
END:VEVENT
END:VCALENDAR