BEGIN:VCALENDAR
VERSION:2.0
PRODID:-//Ingurumen Aretoa Getxo - ECPv4.6.8//NONSGML v1.0//EN
CALSCALE:GREGORIAN
METHOD:PUBLISH
X-WR-CALNAME:Ingurumen Aretoa Getxo
X-ORIGINAL-URL:https://www.ingurumenaretoagetxo.eus
X-WR-CALDESC:Events for Ingurumen Aretoa Getxo
BEGIN:VEVENT
DTSTART;TZID=UTC+0:20260301T090000
DTEND;TZID=UTC+0:20260331T173000
DTSTAMP:20260421T174422
CREATED:20260221T090013Z
LAST-MODIFIED:20260223T130035Z
UID:25331-1772355600-1774978200@www.ingurumenaretoagetxo.eus
SUMMARY:CONCURSO “LOS COLORES DE LA PRIMAVERA”
DESCRIPTION:¡Ya llega la primavera! Por ello organizamos este concurso con 3 categorías\, cuya temática es la primavera en Getxo (pueden representarse flores\, animales típicos de esta época\, paisajes\, tradiciones o fiestas primaverales…). \nCategorías: \n\nDe 4 a 9 años (dibujo)\nEntre 10 y 15 años (dibujo)\nMayores de 16 años (fotografía)\n\nDurante todo el mes podrán recibirse los trabajos cuyo tema central será la primavera en Getxo\, eligiendo durante la primera semana de abril a las personas ganadoras de cada categoría. Los premios son: \n\nRegalo categoría 1: caja de 48 lápices de colores.\nRegalo categoría 2: caja de 48 lápices de colores.\nRegalo categoría 3: cesta ecológica valorada en 20€.\n\nSe pueden consultar las bases del concurso AQUÍ. \n
URL:https://www.ingurumenaretoagetxo.eus/actividad/concurso-los-colores-de-la-primavera/
CATEGORIES:Concurso,Concurso de dibujo,Concurso fotográfico,Público adulto,Público general,Público infantil,Todos los públicos
ATTACH;FMTTYPE=image/jpeg:https://www.ingurumenaretoagetxo.eus/wp-content/uploads/2026/02/noname_13-slr-camera-3752493_1280.jpg
ORGANIZER;CN="Aula%20de%20Getxo":MAILTO:info@ingurumenaretoagetxo.eus
END:VEVENT
BEGIN:VEVENT
DTSTART;TZID=America/Adak:20260328T103000
DTEND;TZID=America/Adak:20260328T133000
DTSTAMP:20260421T174422
CREATED:20260220T090008Z
LAST-MODIFIED:20260224T123043Z
UID:24284-1774693800-1774704600@www.ingurumenaretoagetxo.eus
SUMMARY:LOS COLORES DE LAS AVES
DESCRIPTION:Algunas de las aves de nuestro entorno han perdido los colores\, ¿nos ayudáis a devolvérselos? \nMediante esta actividad\, que consiste en un sencillo juego de pistas por las inmediaciones del Aula Ambiental\, los grupos participantes tendrán que descubrir cuáles son las 6 aves misteriosas y colorearlas tal como son. Además para finalizar la actividad podrás visitar la exposición fotográfica “Las aves de Getxo” del Centro de Recursos. Edad mínima recomendada: 6 años. \nHorario: 10:30\, 11:00\, 11:30\, 12:00\, 12:30 y 13:00. Es necesaria la inscripción previa y recibir confirmación por parte del Aula Ambiental. \n
URL:https://www.ingurumenaretoagetxo.eus/actividad/nueva-actividad-los-colores-de-las-aves-2-17/
LOCATION:Barrio Larrañazubi\, 12. B\, Getxo\, Bizkaia\, 48992\, España
CATEGORIES:Actividad autoguiada,Público familiar,Público infantil
ATTACH;FMTTYPE=image/png:https://www.ingurumenaretoagetxo.eus/wp-content/uploads/2025/12/Los-colores-de-las-aves.png
END:VEVENT
BEGIN:VEVENT
DTSTART;TZID=UTC+0:20260328T103000
DTEND;TZID=UTC+0:20260328T133000
DTSTAMP:20260421T174422
CREATED:20260220T090024Z
LAST-MODIFIED:20260224T123457Z
UID:25423-1774693800-1774704600@www.ingurumenaretoagetxo.eus
SUMMARY:ITINERARIO Y TALLER PERSONAS ADULTAS: LOS RITOS\, COSTUMBRES Y CREENCIAS DEL EQUINOCCIO DE PRIMAVERA A TRAVÉS DE LOS ÁRBOLES\, CON ASOCIACIÓN HOJARASCA
DESCRIPTION:Aprovechando la fecha del equinoccio de primavera se propone esta actividad dirigida por Aitor Ventureira\, de la asociación cultural Hojarasca. Se trata de un itinerario por el entorno del humedal de Bolue\, en el que hablaremos sobre los ritos\, costumbres\, creencias  relacionadas con esta época del año. Trataremos el tema de celebración celta del Ostara\, el origen de la tradición de los huevos y conejo de Pascua\, las Mayas y Mayos\, la bendición de los campos\, la renovación del Fuego Nuevo\, y por supuesto leyendas y mitología pura. Después del itinerario se realizará una segunda parte en el interior de la casita de madera\, en la que se confeccionará una vela con materiales que hayamos recogido en ese paseo. La actividad comenzará en el humedal de Bolue y terminará en el Aula Ambiental. \nEdad mínima: 16 años. \nHorario: 10:30-13:30. Es necesaria la inscripción previa y recibir confirmación por parte del Aula Ambiental. \n
URL:https://www.ingurumenaretoagetxo.eus/actividad/itinerario-y-taller-personas-adultas-los-ritos-costumbres-y-creencias-del-equinoccio-de-primavera-a-traves-de-los-arboles-con-asociacion-hojarasca/
CATEGORIES:Itinerario guiado,Público adulto,Taller
ATTACH;FMTTYPE=image/jpeg:https://www.ingurumenaretoagetxo.eus/wp-content/uploads/2026/02/lancier-peach-flower-6133330_1280.jpg
ORGANIZER;CN="Aula%20de%20Getxo":MAILTO:info@ingurumenaretoagetxo.eus
END:VEVENT
END:VCALENDAR