BEGIN:VCALENDAR
VERSION:2.0
PRODID:-//Ingurumen Aretoa Getxo - ECPv4.6.8//NONSGML v1.0//EN
CALSCALE:GREGORIAN
METHOD:PUBLISH
X-WR-CALNAME:Ingurumen Aretoa Getxo
X-ORIGINAL-URL:https://www.ingurumenaretoagetxo.eus
X-WR-CALDESC:Events for Ingurumen Aretoa Getxo
BEGIN:VEVENT
DTSTART;TZID=UTC+0:20260301T090000
DTEND;TZID=UTC+0:20260331T173000
DTSTAMP:20260421T125649
CREATED:20260221T090013Z
LAST-MODIFIED:20260223T130035Z
UID:25331-1772355600-1774978200@www.ingurumenaretoagetxo.eus
SUMMARY:CONCURSO “LOS COLORES DE LA PRIMAVERA”
DESCRIPTION:¡Ya llega la primavera! Por ello organizamos este concurso con 3 categorías\, cuya temática es la primavera en Getxo (pueden representarse flores\, animales típicos de esta época\, paisajes\, tradiciones o fiestas primaverales…). \nCategorías: \n\nDe 4 a 9 años (dibujo)\nEntre 10 y 15 años (dibujo)\nMayores de 16 años (fotografía)\n\nDurante todo el mes podrán recibirse los trabajos cuyo tema central será la primavera en Getxo\, eligiendo durante la primera semana de abril a las personas ganadoras de cada categoría. Los premios son: \n\nRegalo categoría 1: caja de 48 lápices de colores.\nRegalo categoría 2: caja de 48 lápices de colores.\nRegalo categoría 3: cesta ecológica valorada en 20€.\n\nSe pueden consultar las bases del concurso AQUÍ. \n
URL:https://www.ingurumenaretoagetxo.eus/actividad/concurso-los-colores-de-la-primavera/
LOCATION:Bizkaia
CATEGORIES:Concurso,Concurso de dibujo,Concurso fotográfico,Público adulto,Público general,Público infantil,Todos los públicos
ATTACH;FMTTYPE=image/jpeg:https://www.ingurumenaretoagetxo.eus/wp-content/uploads/2026/02/noname_13-slr-camera-3752493_1280.jpg
ORGANIZER;CN="Aula%20de%20Getxo":MAILTO:info@ingurumenaretoagetxo.eus
END:VEVENT
BEGIN:VEVENT
DTSTART;TZID=UTC+0:20260402T103000
DTEND;TZID=UTC+0:20260402T133000
DTSTAMP:20260421T125649
CREATED:20260326T090032Z
LAST-MODIFIED:20260327T101234Z
UID:19065-1775125800-1775136600@www.ingurumenaretoagetxo.eus
SUMMARY:ESCAPE ROOM: EL DOCTOR ZABORRETA
DESCRIPTION:El Doctor Zaborreta ha ideado un devastador plan para destruir el Medio Ambiente de Getxo. Para evitar sus planes\, las familias y los grupos participantes deberán de superar y buscar distintas pruebas y pistas que desactivarán el plan del malvado doctor\, y conseguir escapar a tiempo del Aula Ambiental.  De una manera activa y divertida se trabajarán diferentes aspectos medio ambientales\, como la gestión de los residuos\, la biodiversidad o el consumo responsable\, entre otros. Esta actividad durará entorno a una hora y media y se realizará en grupos de 6 personas como máximo. \nSe harán dos turnos: a las 10:30 y a las 12:15. Necesaria inscripción previa. Edad mínima recomendada 8 años. \n
URL:https://www.ingurumenaretoagetxo.eus/actividad/escape-room-el-doctor-zaborreta-2/
LOCATION:Barrio Larrañazubi\, 12. B\, Getxo\, Bizkaia\, 48992\, España
CATEGORIES:Escape room,Público general
ATTACH;FMTTYPE=image/jpeg:https://www.ingurumenaretoagetxo.eus/wp-content/uploads/2022/03/castle-1290860_1920.jpg
ORGANIZER;CN="Aula%20de%20Getxo":MAILTO:info@ingurumenaretoagetxo.eus
END:VEVENT
BEGIN:VEVENT
DTSTART;TZID=UTC+0:20260403T103000
DTEND;TZID=UTC+0:20260403T133000
DTSTAMP:20260421T125649
CREATED:20260326T091404Z
LAST-MODIFIED:20260327T101738Z
UID:25524-1775212200-1775223000@www.ingurumenaretoagetxo.eus
SUMMARY:ECO-JUGUETES: SERPIENTE CON ENVASES DE YOGUR
DESCRIPTION:¡Ven a nuestro taller creativo de reutilización para txikis a partir de 3 años! Transformaremos envases de yogur en una divertida serpiente móvil llena de color y personalidad. A través del juego y las manualidades\, las y los txikis desarrollarán su imaginación mientras descubren que los objetos cotidianos pueden tener una segunda vida. \nSerá una actividad dinámica\, adaptada a su edad\, en la que podrán pintar\, decorar y dar movimiento a su propia serpiente reciclada. Una experiencia divertida que fomenta la creatividad y el cuidado del medio ambiente desde pequeños. ¡Os esperamos para crear\, jugar y reutilizar juntos! \nDos turnos: de 10:30 a 11:45 y de 12:15 a 13:30. Es necesaria la inscripción previa y recibir confirmación por parte del Aula Ambiental. \n
URL:https://www.ingurumenaretoagetxo.eus/actividad/eco-juguetes-serpiente-con-envases-de-yogur/
LOCATION:Barrio Larrañazubi\, 12. B\, Getxo\, Bizkaia\, 48992\, España
CATEGORIES:Manualidades,Público familiar,Público infantil,Taller
ATTACH;FMTTYPE=image/png:https://www.ingurumenaretoagetxo.eus/wp-content/uploads/2026/03/Diseno-sin-titulo-16.png
ORGANIZER;CN="Aula%20de%20Getxo":MAILTO:info@ingurumenaretoagetxo.eus
END:VEVENT
BEGIN:VEVENT
DTSTART;TZID=UTC+0:20260404T103000
DTEND;TZID=UTC+0:20260404T133000
DTSTAMP:20260421T125649
CREATED:20251226T080058Z
LAST-MODIFIED:20260327T091815Z
UID:22339-1775298600-1775309400@www.ingurumenaretoagetxo.eus
SUMMARY:TRAS LOS RASTROS
DESCRIPTION:Se trata de una nueva actividad dirigida a mayores de 6 años para aprender a identificar los rastros que dejan los animales de nuestro entorno. Consta de dos partes: una Yincana autoguiada para encontrar las huellas escondidas y una manualidad para hacer el molde de una huella con la ayuda del educador o educadora del Aula. Mientras se hace la manualidad se mostrarán otros tipos de rastros que dejan los animales. \nSe realizarán dos turnos: de 10:30 a 11:45 y de 12:15 a 13:30. Es necesaria la inscripción previa y recibir confirmación por parte del Aula Ambiental. \n
URL:https://www.ingurumenaretoagetxo.eus/actividad/detectives-de-la-naturaleza-explorando-desde-txikis-4-2-3-2-4-9-11/
LOCATION:Barrio Larrañazubi\, 12. B\, Getxo\, Bizkaia\, 48992\, España
CATEGORIES:Actividad autoguiada,Público familiar,Público infantil
ATTACH;FMTTYPE=image/jpeg:https://www.ingurumenaretoagetxo.eus/wp-content/uploads/2024/05/AZTARNEN-BILA-TRAS-LOS-TRASTROS-1-1.jpg
ORGANIZER;CN="Aula%20de%20Getxo":MAILTO:info@ingurumenaretoagetxo.eus
END:VEVENT
BEGIN:VEVENT
DTSTART;TZID=UTC+0:20260405T103000
DTEND;TZID=UTC+0:20260405T133000
DTSTAMP:20260421T125649
CREATED:20260327T092016Z
LAST-MODIFIED:20260327T092016Z
UID:25539-1775385000-1775395800@www.ingurumenaretoagetxo.eus
SUMMARY:MANUALIDADES SOSTENIBLES: MÁSCARAS AFRICANAS
DESCRIPTION:Proponemos un taller creativo para txikis a partir de 6 años en el que reutilizaremos hueveras de cartón para crear originales máscaras decorativas inspiradas en el arte africano. A través de la pintura y la decoración\, darán una segunda vida a estos materiales mientras desarrollan su imaginación y descubren la riqueza cultural del continente africano. \nSe realizarán dos turnos: de 10:30 a 11:45 y de 12:15 a 13:30. Es necesaria la inscripción previa y recibir confirmación por parte del Aula Ambiental. \n
URL:https://www.ingurumenaretoagetxo.eus/actividad/manualidades-sostenibles-mascaras-africanas/
LOCATION:Barrio Larrañazubi\, 12. B\, Getxo\, Bizkaia\, 48992\, España
CATEGORIES:Manualidades,Público familiar,Público infantil,Taller
ATTACH;FMTTYPE=image/png:https://www.ingurumenaretoagetxo.eus/wp-content/uploads/2026/03/viscious-speed-tribal-masks-1099646-scaled.png
ORGANIZER;CN="Aula%20de%20Getxo":MAILTO:info@ingurumenaretoagetxo.eus
END:VEVENT
BEGIN:VEVENT
DTSTART;TZID=UTC+0:20260406T103000
DTEND;TZID=UTC+0:20260406T130000
DTSTAMP:20260421T125649
CREATED:20251124T090036Z
LAST-MODIFIED:20260327T092203Z
UID:24473-1775471400-1775480400@www.ingurumenaretoagetxo.eus
SUMMARY:ACTIVIDAD DE ORIENTING
DESCRIPTION:Se trata de una actividad autoguiada tipo orienting\, en la que el objetivo principal es aprender a interpretar un mapa y a manejar una brújula. Desde el Aula Ambiental\, donde comienza la actividad\, se facilitarán todos los materiales necesarios (instrucciones y la brújula) a cambio de una fianza de 5 euros. La actividad tiene una duración de 1 ́5 horas aproximadas\, y existen dos modalidades: una sencilla (a partir de 8 años) y otra de mayor dificultad (a partir de 12 años). \nLos horarios para comenzar la actividad son: 10:15\, 10:45\, 11:15 Y 11:45. Es necesaria la inscripción previa y recibir confirmación por parte del Aula Ambiental. \n
URL:https://www.ingurumenaretoagetxo.eus/actividad/actividad-orienting/
LOCATION:Barrio Larrañazubi\, 12. B\, Getxo\, Bizkaia\, 48992\, España
CATEGORIES:Actividad autoguiada,Público familiar,Público general
ATTACH;FMTTYPE=image/jpeg:https://www.ingurumenaretoagetxo.eus/wp-content/uploads/2025/10/compass-1753659_640.jpg
ORGANIZER;CN="Aula%20de%20Getxo":MAILTO:info@ingurumenaretoagetxo.eus
END:VEVENT
BEGIN:VEVENT
DTSTART;TZID=UTC+0:20260407T103000
DTEND;TZID=UTC+0:20260407T133000
DTSTAMP:20260421T125649
CREATED:20260221T090052Z
LAST-MODIFIED:20260327T092308Z
UID:24189-1775557800-1775568600@www.ingurumenaretoagetxo.eus
SUMMARY:YINCANA FOTOGRÁFICA POR EL HUMEDAL DE BOLUE (ACTIVIDAD AUTOGUIADA)
DESCRIPTION:¿Quieres pasar un buen rato\, poner a prueba tus dotes fotográficas y llevarte unos mini prismáticos de premio? ¡No te pierdas la Yincana fotográfica por Bolue! \nEn esta nueva actividad autoguiada te retamos a obtener fotografías de distintos elementos que pueden encontrarse en el humedal de Bolue\, y que vienen recogidos en una ficha que te daremos en el Aula Ambiental\, donde comienza la actividad. Cada uno de estos elementos tiene una puntuación concreta: entre las personas participantes que más puntos consigan (es decir\, que más elementos consigan fotografiar) antes de que se termine el tiempo se sorteará de manera semestral unos prismáticos. \nActividad para todos los públicos (entrada libre de 10:30 a 13:30). \n
URL:https://www.ingurumenaretoagetxo.eus/actividad/yincana-fotografica-por-el-humedal-de-bolue-actividad-autoguiada-3/
LOCATION:Barrio Larrañazubi\, 12. B\, Getxo\, Bizkaia\, 48992\, España
CATEGORIES:Actividad autoguiada,Concurso fotográfico,Todos los públicos
ATTACH;FMTTYPE=image/jpeg:https://www.ingurumenaretoagetxo.eus/wp-content/uploads/2025/09/camera-4914690_1280-1.jpg
ORGANIZER;CN="Aula%20de%20Getxo":MAILTO:info@ingurumenaretoagetxo.eus
END:VEVENT
BEGIN:VEVENT
DTSTART;TZID=UTC+0:20260408T103000
DTEND;TZID=UTC+0:20260408T133000
DTSTAMP:20260421T125649
CREATED:20260221T090059Z
LAST-MODIFIED:20260327T092424Z
UID:24173-1775644200-1775655000@www.ingurumenaretoagetxo.eus
SUMMARY:STREET ESCAPE ROOM: ¡DETENGAMOS A LAS INVASORAS!
DESCRIPTION:Se trata de un juego de aventura para mayores de 8 años. Las personas participantes deberán de ir resolviendo distintos enigmas y rompecabezas para conseguir ayudar a Arkaitz\, un biólogo muy despistado que ha confundido una especie invasora con una autóctona. Por medio de esta actividad se conocerá mejor la problemática que generan las especies exóticas invasoras\, dándose a conocer algunas de las especies de nuestro entorno.\nA diferencia de un Escape Room tradicional\, las pruebas\, pistas\, objetos y enigmas a superar ya no están en una sola habitación sino en un espacio abierto\, por lo que tendrás que moverte por distintos espacios del Aula Ambiental\, hasta descubrir los nombres de las 4 enigmáticas especies exóticas invasoras\, y poder así liberar al animal autóctono que ha caído en la trampa del biólogo. ¿Podréis hacerlo en menos de una hora? \nSe harán 3 turnos: 10:15\, 11:15 y 12:15. Es necesaria la inscripción previa y recibir confirmación por parte del Aula Ambiental. \n
URL:https://www.ingurumenaretoagetxo.eus/actividad/nueva-actividad-street-escape-room-detengamos-a-las-invasoras-16-13/
LOCATION:Barrio Larrañazubi\, 12. B\, Getxo\, Bizkaia\, 48992\, España
CATEGORIES:Escape room,Público adulto,Público familiar,Público general
ATTACH;FMTTYPE=image/png:https://www.ingurumenaretoagetxo.eus/wp-content/uploads/2025/06/Street-escape-cast-1.png
ORGANIZER;CN="Aula%20de%20Getxo":MAILTO:info@ingurumenaretoagetxo.eus
END:VEVENT
BEGIN:VEVENT
DTSTART;TZID=UTC+0:20260409T103000
DTEND;TZID=UTC+0:20260409T133000
DTSTAMP:20260421T125649
CREATED:20260327T092556Z
LAST-MODIFIED:20260327T092556Z
UID:25583-1775730600-1775741400@www.ingurumenaretoagetxo.eus
SUMMARY:TALLERES BIO-DIVER: SEMILLEROS DE PEREJIL
DESCRIPTION:En este taller para txikis a partir de 3 años reutilizaremos envases de yogur para crear pequeños semilleros de perejil. Una actividad sencilla y divertida en la que podrán decorar su macetita y aprender cómo nace y crece una planta\, fomentando el cuidado de la naturaleza desde edades tempranas. \nSe realizarán dos turnos: de 10:30 a 11:45 y de 12:15 a 13:30. Es necesaria la inscripción previa y recibir confirmación por parte del Aula Ambiental. \n
URL:https://www.ingurumenaretoagetxo.eus/actividad/talleres-bio-diver-semilleros-de-perejil-2/
LOCATION:Barrio Larrañazubi\, 12. B\, Getxo\, Bizkaia\, 48992\, España
CATEGORIES:Manualidades,Público familiar,Público infantil,Taller
ATTACH;FMTTYPE=image/jpeg:https://www.ingurumenaretoagetxo.eus/wp-content/uploads/2026/03/ka_re-parsely-4688651-scaled.jpg
ORGANIZER;CN="Aula%20de%20Getxo":MAILTO:info@ingurumenaretoagetxo.eus
END:VEVENT
BEGIN:VEVENT
DTSTART;TZID=UTC+0:20260410T103000
DTEND;TZID=UTC+0:20260410T133000
DTSTAMP:20260421T125649
CREATED:20260221T090030Z
LAST-MODIFIED:20260327T092722Z
UID:25382-1775817000-1775827800@www.ingurumenaretoagetxo.eus
SUMMARY:NUEVA ACTIVIDAD: SÚPER HÉROES Y SÚPER HEROÍNAS DEL MEDIO AMBIENTE
DESCRIPTION:Cambio climático\, pérdida de biodiversidad\, contaminación…El mundo está en peligro\, ¿nos ayudas a salvarlo? \nEn esta nueva actividad\, dirigida a niños y niñas a partir de 8 años\, los y las participantes deberán explorar la exposición del Aula Ambiental para buscar información y responder a las preguntas que se les plantean\, relacionadas con distintos aspectos ambientales. A modo de reto\, cada respuesta correcta les acercará a la solución final\, y cuando consigan completar todas podrán abrir una caja secreta donde descubrirán la identidad del superhéroe o súper heroína capaz de salvar el planeta. Como recompensa a su esfuerzo y curiosidad recibirán además un pequeño regalito. \nHorario: 10:30\, 11:15\, 12:00 y 12:45. Es necesario inscribirse previamente y recibir la confirmación del Aula Ambiental. \n
URL:https://www.ingurumenaretoagetxo.eus/actividad/nueva-actividad-super-heroes-y-super-heroinas-del-medio-ambiente/
LOCATION:Barrio Larrañazubi\, 12. B\, Getxo\, Bizkaia\, 48992\, España
CATEGORIES:Actividad autoguiada,Público familiar
ATTACH;FMTTYPE=image/png:https://www.ingurumenaretoagetxo.eus/wp-content/uploads/2026/02/Super-heroes-cast.png
ORGANIZER;CN="Aula%20de%20Getxo":MAILTO:info@ingurumenaretoagetxo.eus
END:VEVENT
BEGIN:VEVENT
DTSTART;TZID=UTC+0:20260411T103000
DTEND;TZID=UTC+0:20260411T133000
DTSTAMP:20260421T125649
CREATED:20260327T093028Z
LAST-MODIFIED:20260327T093028Z
UID:25594-1775903400-1775914200@www.ingurumenaretoagetxo.eus
SUMMARY:CAMINO ESCOLAR: LOS CAMINOS DEL TIEMPO
DESCRIPTION:Se trata de una nueva actividad dirigida a familias con txikis mayores de 7 años\, con el objetivo de dar a conocer el proyecto de los caminos escolares. A través de un misterioso y divertido juego de pistas\, los grupos recorrerán el entorno del Aula\, que simulará las calles de Getxo\, en un viaje que entrelaza pasado y presente. \nDurante el recorrido\, las personas participantes deberán viajar en el tiempo para encontrar cinco fotografías del municipio. Al reunirlas todas\, podrán descifrar el código que abrirá una caja. Al hacerlo\, regresarán al presente y podrán imaginar y representar juntos un buen futuro para Getxo. \nSe realizarán dos turnos: 11:00 y 12:15. Es necesario inscribirse previamente y recibir la confirmación del Aula Ambiental. \n
URL:https://www.ingurumenaretoagetxo.eus/actividad/camino-escolar-los-caminos-del-tiempo/
LOCATION:Barrio Larrañazubi\, 12. B\, Getxo\, Bizkaia\, 48992\, España
CATEGORIES:Público familiar
ATTACH;FMTTYPE=image/jpeg:https://www.ingurumenaretoagetxo.eus/wp-content/uploads/2026/03/caminos_escolares_getxo_portada.jpg
ORGANIZER;CN="Aula%20de%20Getxo":MAILTO:info@ingurumenaretoagetxo.eus
END:VEVENT
BEGIN:VEVENT
DTSTART;TZID=UTC+0:20260412T103000
DTEND;TZID=UTC+0:20260412T133000
DTSTAMP:20260421T125649
CREATED:20260327T093820Z
LAST-MODIFIED:20260327T093820Z
UID:25599-1775989800-1776000600@www.ingurumenaretoagetxo.eus
SUMMARY:MANUALIDADES SOSTENIBLES: MINI CABALLETE PARA LAS FOTOGRAFÍAS DE ESTAS VACACIONES
DESCRIPTION:En este taller para mayores de 6 años reutilizaremos cartón para hacer un mini caballete en el que podremos colocar y lucir las fotografías de estas vacaciones. Se trata de una actividad creativa y práctica en la que podremos diseñar y decorar nuestro propio soporte\, dando un toque personal a nuestros recuerdos favoritos. \nSe realizarán dos turnos: de 10:30 a 11:45 y de 12:15 a 13:30. Es necesaria la inscripción previa y recibir confirmación por parte del Aula Ambiental. \n
URL:https://www.ingurumenaretoagetxo.eus/actividad/manualidades-sostenibles-mini-caballete-para-las-fotografias-de-estas-vacaciones/
LOCATION:Barrio Larrañazubi\, 12. B\, Getxo\, Bizkaia\, 48992\, España
CATEGORIES:Manualidades,Público familiar,Público infantil
ATTACH;FMTTYPE=image/png:https://www.ingurumenaretoagetxo.eus/wp-content/uploads/2026/03/Diseno-sin-titulo-17.png
ORGANIZER;CN="Aula%20de%20Getxo":MAILTO:info@ingurumenaretoagetxo.eus
END:VEVENT
BEGIN:VEVENT
DTSTART;TZID=UTC+0:20260418T013000
DTEND;TZID=UTC+0:20260418T133000
DTSTAMP:20260421T125649
CREATED:20260327T095222Z
LAST-MODIFIED:20260327T095222Z
UID:25606-1776475800-1776519000@www.ingurumenaretoagetxo.eus
SUMMARY:TALLERES BIO-DIVER: SAQUITOS AROMÁTICOS DE LAVANDA
DESCRIPTION:¡Ya huele a primavera! En el taller de hoy haremos saquitos aromáticos con lavanda seca. Podemos usarlos para aromatizar armarios y cajones. Además\, actúan como un repelente natural de polillas\, ayudan a conciliar el sueño al colocarlos bajo la almohada y reducen el estrés o la ansiedad gracias a sus propiedades calmantes. Edad mínima 3 años. \nSe realizarán dos turnos: de 10:30 a 11:45 y de 12:15 a 13:30. Es necesaria la inscripción previa y recibir confirmación por parte del Aula Ambiental. \n
URL:https://www.ingurumenaretoagetxo.eus/actividad/talleres-bio-diver-saquitos-aromaticos-de-lavanda/
LOCATION:Barrio Larrañazubi\, 12. B\, Getxo\, Bizkaia\, 48992\, España
CATEGORIES:Manualidades,Público familiar,Público infantil,Taller
ATTACH;FMTTYPE=image/jpeg:https://www.ingurumenaretoagetxo.eus/wp-content/uploads/2026/03/congerdesign-lavender-823600-scaled.jpg
ORGANIZER;CN="Aula%20de%20Getxo":MAILTO:info@ingurumenaretoagetxo.eus
END:VEVENT
BEGIN:VEVENT
DTSTART;TZID=UTC+0:20260419T103000
DTEND;TZID=UTC+0:20260419T133000
DTSTAMP:20260421T125649
CREATED:20260221T090040Z
LAST-MODIFIED:20260327T095751Z
UID:23018-1776594600-1776605400@www.ingurumenaretoagetxo.eus
SUMMARY:“BICHEANDO”
DESCRIPTION:Por medio de esta nueva actividad los y las txikis de más de 8 años y sus familias podrán conocer parte de los insectos y otros bichitos de nuestro entorno\, conocer la función que cumplen en nuestros ecosistemas y reflexionar acerca de la importancia de su conservación. Para ello\, usando unas lupas y una guía de «bichos»\, podrán identificar en una lista que les daremos todos aquellos animalitos que vean. Después podrán observar insectos reales de nuestro insectario a través del microscopio digital y para terminar podrán elaborar una sencilla manualidad que represente un insecto\, reutilizando distintos elementos. \nHorario: 11:00\, 11:30 y 12:00. Es necesaria la inscripción previa y recibir confirmación por parte del Aula Ambiental. \n
URL:https://www.ingurumenaretoagetxo.eus/actividad/bicheando/
LOCATION:Barrio Larrañazubi\, 12. B\, Getxo\, Bizkaia\, 48992\, España
CATEGORIES:Público familiar,Público infantil
ATTACH;FMTTYPE=image/png:https://www.ingurumenaretoagetxo.eus/wp-content/uploads/2025/01/Bicheando.png
ORGANIZER;CN="Aula%20de%20Getxo":MAILTO:info@ingurumenaretoagetxo.eus
END:VEVENT
BEGIN:VEVENT
DTSTART;TZID=UTC+0:20260419T103000
DTEND;TZID=UTC+0:20260419T133000
DTSTAMP:20260421T125649
CREATED:20260327T095541Z
LAST-MODIFIED:20260327T095541Z
UID:25611-1776594600-1776605400@www.ingurumenaretoagetxo.eus
SUMMARY:TALLER PARA PERSONAS ADULTAS SOBRE ELABORACIÓN DE CERVEZA ARTESANAL (CON MAR\, DE LA TXIKA DE LA CERVEZA)
DESCRIPTION:Descubre la cultura cervecera: historias\, curiosidades y el papel de las mujeres en el origen de la cerveza.\nEn este taller dinámico podrás aprender cómo se elabora la cerveza y sumergirte en su historia\, sus curiosidades y su lado más sorprendente. Hablaremos de cultura cervecera\, aprenderemos a degustar con criterio y conoceremos el papel fundamental que tuvieron las mujeres en su origen. \nHorario: de 10:30 a 13:30. Es necesaria la inscripción previa y recibir confirmación por parte del Aula Ambiental \n
URL:https://www.ingurumenaretoagetxo.eus/actividad/taller-para-personas-adultas-sobre-elaboracion-de-cerveza-artesanal-con-mar-de-la-txika-de-la-cerveza/
LOCATION:Barrio Larrañazubi\, 12. B\, Getxo\, Bizkaia\, 48992\, España
CATEGORIES:Público adulto,Taller
ATTACH;FMTTYPE=image/jpeg:https://www.ingurumenaretoagetxo.eus/wp-content/uploads/2026/03/republica-beer-820011-scaled.jpg
ORGANIZER;CN="Aula%20de%20Getxo":MAILTO:info@ingurumenaretoagetxo.eus
END:VEVENT
BEGIN:VEVENT
DTSTART;TZID=UTC+0:20260425T103000
DTEND;TZID=UTC+0:20260425T133000
DTSTAMP:20260421T125649
CREATED:20260327T100147Z
LAST-MODIFIED:20260327T100147Z
UID:25632-1777113000-1777123800@www.ingurumenaretoagetxo.eus
SUMMARY:TALLERES BIO-DIVER: TRAMPA PARA AVISPAS ASIÁTICAS (22 de abril\, día Internacional de la Madre Tierra)
DESCRIPTION:Una de las 5 principales amenazas para la biodiversidad mundial son las especies exóticas invasoras. En el taller de hoy reutilizaremos botellas de plástico para hacer trampas contra la avispa asiática. En ellas colocaremos un atrayente para atraer a estos insectos que\, entre otras cosas\, amenazan a las abejas. Además veremos in situ avispas y abejas disecadas\, mostrando sus características. Para mayores de 3 años. \nSe realizarán dos turnos: de 10:30 a 11:45 y de 12:15 a 13:30. Es necesaria la inscripción previa y recibir confirmación por parte del Aula Ambiental. \n
URL:https://www.ingurumenaretoagetxo.eus/actividad/talleres-bio-diver-trampa-para-avispas-asiaticas-22-de-abril-dia-internacional-de-la-madre-tierra/
LOCATION:Barrio Larrañazubi\, 12. B\, Getxo\, Bizkaia\, 48992\, España
CATEGORIES:Día Mundial,Manualidades,Público familiar,Público infantil,Taller
ATTACH;FMTTYPE=image/jpeg:https://www.ingurumenaretoagetxo.eus/wp-content/uploads/2026/03/christels-hornet-9964336-scaled.jpg
ORGANIZER;CN="Aula%20de%20Getxo":MAILTO:info@ingurumenaretoagetxo.eus
END:VEVENT
BEGIN:VEVENT
DTSTART;TZID=UTC+0:20260426T103000
DTEND;TZID=UTC+0:20260426T133000
DTSTAMP:20260421T125649
CREATED:20260220T090039Z
LAST-MODIFIED:20260415T103556Z
UID:25202-1777199400-1777210200@www.ingurumenaretoagetxo.eus
SUMMARY:SOBREVIVIR EN LA NATURALEZA (ACTIVIDAD AUTOGUIADA)
DESCRIPTION:En el caso de que un día te perdieses por el bosque\, ¿serías capaz de sobrevivir únicamente usando tu guía de supervivencia y lo que puedas encontrar en la naturaleza? \n“Sobrevivir en la naturaleza” es una actividad en la que los grupos participantes deberán superar 4 pruebas en menos de una hora: aprender a orientarse sin brújula\, construir refugio\, buscar alimento\, aprender a curar sus heridas con elementos naturales y aprender a hacer fuego con pedernal. Todo ello utilizando los materiales y guías que hemos creado en el Aula. \nSe harán 4 turnos (11:00\, 11:30\, 12:00 y 12:30). Edad mínima recomendada: 10 años. Es necesaria la inscripción previa y recibir confirmación por parte del Aula Ambiental. \n
URL:https://www.ingurumenaretoagetxo.eus/actividad/sobrevivir-en-la-naturaleza-actividad-autoguiada/
LOCATION:Barrio Larrañazubi\, 12. B\, Getxo\, Bizkaia\, 48992\, España
CATEGORIES:Actividad autoguiada,Público general
ATTACH;FMTTYPE=image/jpeg:https://www.ingurumenaretoagetxo.eus/wp-content/uploads/2026/01/Sobrevivir-en-la-naturaleza.jpg
ORGANIZER;CN="Aula%20de%20Getxo":MAILTO:info@ingurumenaretoagetxo.eus
END:VEVENT
BEGIN:VEVENT
DTSTART;TZID=UTC+0:20260426T103000
DTEND;TZID=UTC+0:20260426T133000
DTSTAMP:20260421T125649
CREATED:20260327T100532Z
LAST-MODIFIED:20260327T100532Z
UID:25643-1777199400-1777210200@www.ingurumenaretoagetxo.eus
SUMMARY:VISITA GUIADA A LA EXPOSICIÓN “NATURALEZA A LA DERIVA” DE SONIA BOUSO
DESCRIPTION:Actividad dirigida a personas adultas donde la artista visual y diseñadora getxotarra Sonia Bouso (autora de las fotografías de la actual exposición temporal del Aula ‘Naturaleza a la deriva’\, que recoge composiciones creadas con diferentes materiales vegetales recolectados en playas de Getxo)\, realizará una visita guiada a la exposición\, presentando a las personas participantes este trabajo integrado en una de las líneas de investigación de ‘Escenarios para un diálogo con la naturaleza’\, el eje conceptual que vertebra su práctica artística\, a través de la cual genera espacios de reflexión que invitan al diálogo entre personas y naturaleza con el propósito de crear impacto\, concienciar y promover el respeto por ésta a través del arte. \nAdemás\, invitará a las personas asistentes a participar en la instalación colaborativa site-specific ‘Deriva colectiva’ abierta a la cocreación durante la exposición. \nHorario: de 12:00 a 13:00. Es necesaria la inscripción previa y recibir confirmación por parte del Aula Ambiental. \n
URL:https://www.ingurumenaretoagetxo.eus/actividad/visita-guiada-a-la-exposicion-naturaleza-a-la-deriva-de-sonia-bouso/
LOCATION:Barrio Larrañazubi\, 12. B\, Getxo\, Bizkaia\, 48992\, España
CATEGORIES:Exposición temporal actual,Público adulto
ATTACH;FMTTYPE=image/jpeg:https://www.ingurumenaretoagetxo.eus/wp-content/uploads/2026/03/CARTEL_AULA_AMB_ES_EUS_1080x1350px.jpg
ORGANIZER;CN="Aula%20de%20Getxo":MAILTO:info@ingurumenaretoagetxo.eus
END:VEVENT
END:VCALENDAR